BEGIN:VCALENDAR
VERSION:2.0
PRODID:-//TxFACT LLC, dba: Texas Forensic Associates - ECPv6.15.20//NONSGML v1.0//EN
CALSCALE:GREGORIAN
METHOD:PUBLISH
X-ORIGINAL-URL:https://txfact.com
X-WR-CALDESC:Events for TxFACT LLC, dba: Texas Forensic Associates
REFRESH-INTERVAL;VALUE=DURATION:PT1H
X-Robots-Tag:noindex
X-PUBLISHED-TTL:PT1H
BEGIN:VTIMEZONE
TZID:America/New_York
BEGIN:DAYLIGHT
TZOFFSETFROM:-0500
TZOFFSETTO:-0400
TZNAME:EDT
DTSTART:20240310T070000
END:DAYLIGHT
BEGIN:STANDARD
TZOFFSETFROM:-0400
TZOFFSETTO:-0500
TZNAME:EST
DTSTART:20241103T060000
END:STANDARD
BEGIN:DAYLIGHT
TZOFFSETFROM:-0500
TZOFFSETTO:-0400
TZNAME:EDT
DTSTART:20250309T070000
END:DAYLIGHT
BEGIN:STANDARD
TZOFFSETFROM:-0400
TZOFFSETTO:-0500
TZNAME:EST
DTSTART:20251102T060000
END:STANDARD
BEGIN:DAYLIGHT
TZOFFSETFROM:-0500
TZOFFSETTO:-0400
TZNAME:EDT
DTSTART:20260308T070000
END:DAYLIGHT
BEGIN:STANDARD
TZOFFSETFROM:-0400
TZOFFSETTO:-0500
TZNAME:EST
DTSTART:20261101T060000
END:STANDARD
END:VTIMEZONE
BEGIN:VEVENT
DTSTART;TZID=America/New_York:20251020T080000
DTEND;TZID=America/New_York:20251024T170000
DTSTAMP:20260420T034506
CREATED:20250624T072255Z
LAST-MODIFIED:20251007T134325Z
UID:10000046-1760947200-1761325200@txfact.com
SUMMARY:Investigation & Reconstruction of Shooting Incidents - CLASS FULL
DESCRIPTION:October 20 – 24\, 2025 \nCLASS FULL \nLOCATION: 5030 US-69\, Beaumont\, TX (Sheriff’s Office Gun Range) \nFee: $695\n**** $795 after October 1st\, 2025 ****\nNo Refund on Early Registration. (substitutions are allowed) \nVisitor Information and Hotel Info \n 
URL:https://txfact.com/event/investigation-reconstruction-of-shooting-incidents/
LOCATION:Jefferson County Sheriff’s Office Firearms Training Range\, 5030 Highway 69 S.\, Beaumont\, TX\, 77705\, United States
END:VEVENT
END:VCALENDAR