BEGIN:VCALENDAR
VERSION:2.0
PRODID:-//TxFACT LLC, dba: Texas Forensic Associates - ECPv6.15.20//NONSGML v1.0//EN
CALSCALE:GREGORIAN
METHOD:PUBLISH
X-ORIGINAL-URL:https://txfact.com
X-WR-CALDESC:Events for TxFACT LLC, dba: Texas Forensic Associates
REFRESH-INTERVAL;VALUE=DURATION:PT1H
X-Robots-Tag:noindex
X-PUBLISHED-TTL:PT1H
BEGIN:VTIMEZONE
TZID:America/New_York
BEGIN:DAYLIGHT
TZOFFSETFROM:-0500
TZOFFSETTO:-0400
TZNAME:EDT
DTSTART:20240310T070000
END:DAYLIGHT
BEGIN:STANDARD
TZOFFSETFROM:-0400
TZOFFSETTO:-0500
TZNAME:EST
DTSTART:20241103T060000
END:STANDARD
BEGIN:DAYLIGHT
TZOFFSETFROM:-0500
TZOFFSETTO:-0400
TZNAME:EDT
DTSTART:20250309T070000
END:DAYLIGHT
BEGIN:STANDARD
TZOFFSETFROM:-0400
TZOFFSETTO:-0500
TZNAME:EST
DTSTART:20251102T060000
END:STANDARD
BEGIN:DAYLIGHT
TZOFFSETFROM:-0500
TZOFFSETTO:-0400
TZNAME:EDT
DTSTART:20260308T070000
END:DAYLIGHT
BEGIN:STANDARD
TZOFFSETFROM:-0400
TZOFFSETTO:-0500
TZNAME:EST
DTSTART:20261101T060000
END:STANDARD
END:VTIMEZONE
BEGIN:VEVENT
DTSTART;VALUE=DATE:20250922
DTEND;VALUE=DATE:20250925
DTSTAMP:20260420T085523
CREATED:20250520T090258Z
LAST-MODIFIED:20250817T140944Z
UID:10000044-1758499200-1758758399@txfact.com
SUMMARY:Crime Scene Reconstruction
DESCRIPTION:CSR Garland 09-2025 \nSeptember 22 – 24\, 2025    1891 Forest Lane\, Garland\, TX \nTuition $495 Early / $595 @ Door \n  \n**Early Registration Deadline September 10\, 2025 \n***No Refunds for Early Rate Registrations. Substitutions Accepted
URL:https://txfact.com/event/crime-scene-reconstruction/
LOCATION:1891 Forest Lane\, Garland\, TX\, 1891\, Garland\, 75042\, United States
ORGANIZER;CN="Nick":MAILTO:register@txfact.com
END:VEVENT
BEGIN:VEVENT
DTSTART;VALUE=DATE:20250922
DTEND;VALUE=DATE:20250927
DTSTAMP:20260420T085524
CREATED:20250415T205416Z
LAST-MODIFIED:20250817T141304Z
UID:10000035-1758499200-1758931199@txfact.com
SUMMARY:Bloodstain Pattern Analysis Texas City: 40 Hours - September 2025
DESCRIPTION:BSPA_Texas City_09-2025_W_Venue W-9 2025 NEW \nSeptember 22 – 26\, 2025 Texas City\, TX \nTuition $695 Early / $795 @ Door \n  \n**Early Registration Deadline August 10\, 2025 \n***No Refunds for Early Rate Registrations. Substitutions Accepted
URL:https://txfact.com/event/bspa-texas-city-september-2025/
LOCATION:Texas City Police Department\, 1004 Ninth Ave North\, Texas City\, TX\, 77590\, United States
ORGANIZER;CN="Nick":MAILTO:register@txfact.com
END:VEVENT
BEGIN:VEVENT
DTSTART;TZID=America/New_York:20250922T080000
DTEND;TZID=America/New_York:20250926T170000
DTSTAMP:20260420T085524
CREATED:20250710T060400Z
LAST-MODIFIED:20250710T114617Z
UID:10000047-1758528000-1758906000@txfact.com
SUMMARY:Latent Fingerprint Comparison: Intermediate Level
DESCRIPTION:Click for Hotel/Visitor Information_Southlake 2024 \nSeptember 22 – 26\, 2025 \nLOCATION: 100 E. Dove Rd.\, Southlake\, TX \nFee: $695 Early / $795@Door\n**** Early Registration Deadline September 10th\, 2025 ****\nNo Refund on Early Registration. (substitutions are allowed)
URL:https://txfact.com/event/latent-fingerprint-comparison-intermediate-level/
LOCATION:100 E. Dove Rd.\, Southlake\, TX\, 100 E. Dove Rd.\,\, Southlake\,\, TX\, 76092\, United States
END:VEVENT
BEGIN:VEVENT
DTSTART;VALUE=DATE:20250925
DTEND;VALUE=DATE:20250927
DTSTAMP:20260420T085524
CREATED:20250520T084948Z
LAST-MODIFIED:20250817T141119Z
UID:10000043-1758758400-1758931199@txfact.com
SUMMARY:Death Scene Investigation
DESCRIPTION:DSP Garland 09-2025 \nSeptember 25 – 26\, 2025   1891 Forest Lane\, Garland\, TX \nTuition $395 Early / $495 @ Door \n  \n**Early Registration Deadline September 10\, 2025 \n***No Refunds for Early Rate Registrations. Substitutions Accepted
URL:https://txfact.com/event/death-scene-investigation-2/
LOCATION:Garland Police Department\, 1891 Forest Lane\, Garland\, TX
ORGANIZER;CN="Nick":MAILTO:register@txfact.com
END:VEVENT
END:VCALENDAR