BEGIN:VCALENDAR
VERSION:2.0
PRODID:-//TxFACT LLC, dba: Texas Forensic Associates - ECPv6.15.20//NONSGML v1.0//EN
CALSCALE:GREGORIAN
METHOD:PUBLISH
X-WR-CALNAME:TxFACT LLC, dba: Texas Forensic Associates
X-ORIGINAL-URL:https://txfact.com
X-WR-CALDESC:Events for TxFACT LLC, dba: Texas Forensic Associates
REFRESH-INTERVAL;VALUE=DURATION:PT1H
X-Robots-Tag:noindex
X-PUBLISHED-TTL:PT1H
BEGIN:VTIMEZONE
TZID:America/New_York
BEGIN:DAYLIGHT
TZOFFSETFROM:-0500
TZOFFSETTO:-0400
TZNAME:EDT
DTSTART:20250309T070000
END:DAYLIGHT
BEGIN:STANDARD
TZOFFSETFROM:-0400
TZOFFSETTO:-0500
TZNAME:EST
DTSTART:20251102T060000
END:STANDARD
BEGIN:DAYLIGHT
TZOFFSETFROM:-0500
TZOFFSETTO:-0400
TZNAME:EDT
DTSTART:20260308T070000
END:DAYLIGHT
BEGIN:STANDARD
TZOFFSETFROM:-0400
TZOFFSETTO:-0500
TZNAME:EST
DTSTART:20261101T060000
END:STANDARD
BEGIN:DAYLIGHT
TZOFFSETFROM:-0500
TZOFFSETTO:-0400
TZNAME:EDT
DTSTART:20270314T070000
END:DAYLIGHT
BEGIN:STANDARD
TZOFFSETFROM:-0400
TZOFFSETTO:-0500
TZNAME:EST
DTSTART:20271107T060000
END:STANDARD
END:VTIMEZONE
BEGIN:VEVENT
DTSTART;VALUE=DATE:20260921
DTEND;VALUE=DATE:20260923
DTSTAMP:20260420T024023
CREATED:20260324T182412Z
LAST-MODIFIED:20260324T182412Z
UID:10000074-1789948800-1790121599@txfact.com
SUMMARY:Death Scene Investigation
DESCRIPTION:Host: Garland Police Department \nDate: September 21 – 22\, 2026\nTime: 8A – 5P (16 hours)\nLocation: 1891 Forest Lane\, Garland\, Texas Fee: $395 *** $495 after September 1st\, 2026 **** \n No Refund on Early Registration. (substitutions are allowed)
URL:https://txfact.com/event/death-scene-investigation/
LOCATION:Garland Police Department\, 1891 Forest Lane\, Garland\, TX
ORGANIZER;CN="Nick":MAILTO:register@txfact.com
END:VEVENT
BEGIN:VEVENT
DTSTART;VALUE=DATE:20260923
DTEND;VALUE=DATE:20260926
DTSTAMP:20260420T024023
CREATED:20260324T181443Z
LAST-MODIFIED:20260324T182535Z
UID:10000073-1790121600-1790380799@txfact.com
SUMMARY:Crime Scene Reconstruction
DESCRIPTION:September 23 – 25\, 2026    1891 Forest Lane\, Garland\, TX \nTuition $495 Early / $595 @ Door \n**Early Registration Deadline September 1\, 2026 \n***No Refunds for Early Rate Registrations. Substitutions Accepted \nVisitor Information_Garland PD
URL:https://txfact.com/event/crime-scene-reconstruction-2/
LOCATION:1891 Forest Lane\, Garland\, TX\, 1891\, Garland\, 75042\, United States
ORGANIZER;CN="Nick":MAILTO:register@txfact.com
END:VEVENT
BEGIN:VEVENT
DTSTART;TZID=America/New_York:20261005T080000
DTEND;TZID=America/New_York:20261009T170000
DTSTAMP:20260420T024023
CREATED:20260324T184623Z
LAST-MODIFIED:20260324T184824Z
UID:10000075-1791187200-1791565200@txfact.com
SUMMARY:INVESTIGATION & RECONSTRUCTION OF SHOOTING INCIDENTS
DESCRIPTION:Host: Harris County Sheriff’s Office  Date: October 5-9\, 2026\nTime: 8A – 5P (40 hours)\nLocation: 2315 Atascocita Humble\, TX\nFee: $695 ***$795 after September 21\, 2026 \nNo Refund on Early Registration. (substitutions are allowed) \nVisitor Information_Harris_Co_Academy
URL:https://txfact.com/event/investigation-reconstruction-of-shooting-incidents-3/
LOCATION:Harris County Sheriff’s Academy\, 2315 Atascocita\, Humble\, TX\, United States
END:VEVENT
END:VCALENDAR