BEGIN:VCALENDAR
VERSION:2.0
PRODID:-//TxFACT LLC, dba: Texas Forensic Associates - ECPv6.15.20//NONSGML v1.0//EN
CALSCALE:GREGORIAN
METHOD:PUBLISH
X-WR-CALNAME:TxFACT LLC, dba: Texas Forensic Associates
X-ORIGINAL-URL:https://txfact.com
X-WR-CALDESC:Events for TxFACT LLC, dba: Texas Forensic Associates
REFRESH-INTERVAL;VALUE=DURATION:PT1H
X-Robots-Tag:noindex
X-PUBLISHED-TTL:PT1H
BEGIN:VTIMEZONE
TZID:America/New_York
BEGIN:DAYLIGHT
TZOFFSETFROM:-0500
TZOFFSETTO:-0400
TZNAME:EDT
DTSTART:20240310T070000
END:DAYLIGHT
BEGIN:STANDARD
TZOFFSETFROM:-0400
TZOFFSETTO:-0500
TZNAME:EST
DTSTART:20241103T060000
END:STANDARD
BEGIN:DAYLIGHT
TZOFFSETFROM:-0500
TZOFFSETTO:-0400
TZNAME:EDT
DTSTART:20250309T070000
END:DAYLIGHT
BEGIN:STANDARD
TZOFFSETFROM:-0400
TZOFFSETTO:-0500
TZNAME:EST
DTSTART:20251102T060000
END:STANDARD
BEGIN:DAYLIGHT
TZOFFSETFROM:-0500
TZOFFSETTO:-0400
TZNAME:EDT
DTSTART:20260308T070000
END:DAYLIGHT
BEGIN:STANDARD
TZOFFSETFROM:-0400
TZOFFSETTO:-0500
TZNAME:EST
DTSTART:20261101T060000
END:STANDARD
BEGIN:DAYLIGHT
TZOFFSETFROM:-0500
TZOFFSETTO:-0400
TZNAME:EDT
DTSTART:20270314T070000
END:DAYLIGHT
BEGIN:STANDARD
TZOFFSETFROM:-0400
TZOFFSETTO:-0500
TZNAME:EST
DTSTART:20271107T060000
END:STANDARD
END:VTIMEZONE
BEGIN:VEVENT
DTSTART;TZID=America/New_York:20260223T080000
DTEND;TZID=America/New_York:20260227T170000
DTSTAMP:20260420T035743
CREATED:20250925T205120Z
LAST-MODIFIED:20251009T221736Z
UID:10000058-1771833600-1772211600@txfact.com
SUMMARY:LATENT FINGERPRINT COMPARISON: INTERMEDIATE LEVEL
DESCRIPTION:Host: Texas City Police Department\nDate: February 23 – 27\, 2026\nTime: 8A – 5P (40 hours) \nLocation: 1004 9th Ave North\, Texas City\, Texas \nFee: $695\n*** $795 after February 10th\, 2026 ****\nNo Refund on Early Registration. (substitutions are allowed) \nVisitor Information_Texas City_PD_2024
URL:https://txfact.com/event/latent-fingerprint-comparison-intermediate-level-2/
LOCATION:1004 9th Ave North\, Texas City\, Texas
END:VEVENT
BEGIN:VEVENT
DTSTART;TZID=America/New_York:20260217T080000
DTEND;TZID=America/New_York:20260219T170000
DTSTAMP:20260420T035743
CREATED:20250925T203937Z
LAST-MODIFIED:20251009T220824Z
UID:10000056-1771315200-1771520400@txfact.com
SUMMARY:DIGITAL POLICE PHOTOGRAPHY: FUNDAMENTALS TO FORENSICS
DESCRIPTION:Host: Texas City Police Department\nDate: February 17 – 19\, 2026\nTime: 8A – 5P (24 hours) \nLocation: 1004 9th Ave North\, Texas City\, Texas \nFee: $495\n*** $595 after February 1st\, 2026 ****\nNo Refund on Early Registration. (substitutions are allowed) \nVisitor Information_Texas City_PD_2024
URL:https://txfact.com/event/digital-police-photography-fundamentals-to-forensics/
LOCATION:1004 9th Ave North\, Texas City\, Texas
END:VEVENT
BEGIN:VEVENT
DTSTART;TZID=America/New_York:20260216T080000
DTEND;TZID=America/New_York:20260220T170000
DTSTAMP:20260420T035743
CREATED:20250925T204534Z
LAST-MODIFIED:20251119T203632Z
UID:10000057-1771228800-1771606800@txfact.com
SUMMARY:INVESTIGATION & RECONSTRUCTION OF SHOOTING INCIDENTS
DESCRIPTION:Host: Dallas County Sheriff’s Office\nDate: February 16 – 20\, 2026\nTime: : 8A – 5P (40 hours) \nLocation: 1586 E. Langdon Rd.\, Dallas\, TX (Dallas Co. SO Firearms Training Facility) \nFee: $695\n*** $795 after February 1st\, 2026 ****\nNo Refund on Early Registration. (substitutions are allowed) \nVisitor Information_Dallas Gun Range
URL:https://txfact.com/event/investigation-reconstruction-of-shooting-incidents-2/
LOCATION:1586 E. Langdon Rd.\, Dallas\, TX (Dallas Co. SO Firearms Training Facility)
END:VEVENT
BEGIN:VEVENT
DTSTART;TZID=America/New_York:20260204T080000
DTEND;TZID=America/New_York:20260206T170000
DTSTAMP:20260420T035743
CREATED:20250925T205617Z
LAST-MODIFIED:20260121T173608Z
UID:10000059-1770192000-1770397200@txfact.com
SUMMARY:SEXUAL ASSAULT INVESTIGATIONS: FORENSIC PROTOCOLS & PROCEDURES
DESCRIPTION:Host: Texas City Police Department\nDate: February 4 – 6\, 2026\nTime: 8A – 5P (24 hours) \nLocation: 1004 9th Ave North Texas City\, Texas \nFee: $495\n*** $595 after January 20th\, 2026 ****\nNo Refund on Early Registration. (substitutions are allowed) \nVisitor Information_Texas City_PD_2024
URL:https://txfact.com/event/sexual-assault-investigations-forensic-protocols-procedures/
LOCATION:Texas City Police Department\, 1004 9th Ave North\, Texas City\, TX\, United States
END:VEVENT
BEGIN:VEVENT
DTSTART;TZID=America/New_York:20260120T080000
DTEND;TZID=America/New_York:20260122T170000
DTSTAMP:20260420T035743
CREATED:20250925T192737Z
LAST-MODIFIED:20260109T160230Z
UID:10000053-1768896000-1769101200@txfact.com
SUMMARY:BLOOD\, BULLETS & MORE: INVESTIGATING VIOLENT CRIME SCENES
DESCRIPTION:Host: Texas City Police Department\nDate: January 20 – 22\, 2026\nTime: 8A – 5P (24 hours) \nLocation: 1004 9th Ave North\, Texas City\, Texas \nFee: $495\n*** $595 after January 1st\, 2026 ****\nNo Refund on Early Registration. (substitutions are allowed) \nVisitor Information_Texas City_PD_2024
URL:https://txfact.com/event/blood-bullets-more-investigating-violent-crime-scenes/
LOCATION:1004 9th Ave North\, Texas City\, Texas
END:VEVENT
BEGIN:VEVENT
DTSTART;TZID=America/New_York:20260112T080000
DTEND;TZID=America/New_York:20260116T170000
DTSTAMP:20260420T035743
CREATED:20250925T193954Z
LAST-MODIFIED:20251217T173908Z
UID:10000054-1768204800-1768582800@txfact.com
SUMMARY:BASIC FINGERPRINT IDENTIFICATION
DESCRIPTION:Host: Texas City Police Department\nDate: January 12 – 16\, 2026\nTime: 8A – 5P (40 hours) \nLocation: 1004 9th Ave North Texas City\, Texas \nFee: $695\n*** $795 after December 20th\, 2025 ****\nNo Refund on Early Registration. (substitutions are allowed) \nVisitor Information_Texas City_PD_2024
URL:https://txfact.com/event/basic-fingerprint-identification-2/
LOCATION:1004 9th Ave North\, Texas City\, Texas
END:VEVENT
BEGIN:VEVENT
DTSTART;TZID=America/New_York:20251201T080000
DTEND;TZID=America/New_York:20251205T170000
DTSTAMP:20260420T035743
CREATED:20250829T165336Z
LAST-MODIFIED:20251001T184814Z
UID:10000048-1764576000-1764954000@txfact.com
SUMMARY:Basic Criminal Investigation: Case Assignment to Courtroom
DESCRIPTION:Host: Southlake Police Department\nDate: December 1 – 5\, 2025\nTime: 8A – 5P (40 hours) \nLocation: 100 E. Dove Road\, Southlake\, Texas \nFee: $695\n*** $795 after December 1st\, 2025 ****\nNo Refund on Early Registration. (substitutions are allowed) \nVisitor Information_Southlake 2024
URL:https://txfact.com/event/basic-criminal-investigation-case-assignment-to-courtroom-2/
LOCATION:100 E. Dove Rd.\, Southlake\, TX\, 100 E. Dove Rd.\,\, Southlake\,\, TX\, 76092\, United States
END:VEVENT
BEGIN:VEVENT
DTSTART;TZID=America/New_York:20251020T080000
DTEND;TZID=America/New_York:20251024T170000
DTSTAMP:20260420T035743
CREATED:20250624T072255Z
LAST-MODIFIED:20251007T134325Z
UID:10000046-1760947200-1761325200@txfact.com
SUMMARY:Investigation & Reconstruction of Shooting Incidents - CLASS FULL
DESCRIPTION:October 20 – 24\, 2025 \nCLASS FULL \nLOCATION: 5030 US-69\, Beaumont\, TX (Sheriff’s Office Gun Range) \nFee: $695\n**** $795 after October 1st\, 2025 ****\nNo Refund on Early Registration. (substitutions are allowed) \nVisitor Information and Hotel Info \n 
URL:https://txfact.com/event/investigation-reconstruction-of-shooting-incidents/
LOCATION:Jefferson County Sheriff’s Office Firearms Training Range\, 5030 Highway 69 S.\, Beaumont\, TX\, 77705\, United States
END:VEVENT
BEGIN:VEVENT
DTSTART;TZID=America/New_York:20251007T080000
DTEND;TZID=America/New_York:20251009T170000
DTSTAMP:20260420T035743
CREATED:20250604T165500Z
LAST-MODIFIED:20250817T141153Z
UID:10000045-1759824000-1760029200@txfact.com
SUMMARY:Palm Print Recognition & Identification
DESCRIPTION:October 7 – 9\, 2025 Texas City\, TX \nTuition $495 Early / $595 @ Door \n**Early Registration Deadline September 15\, 2025 \n***No Refunds for Early Rate Registrations. Substitutions Accepted
URL:https://txfact.com/event/palm-print-recognition-identification/
LOCATION:Texas City Police Department\, 1004 Ninth Ave North\, Texas City\, TX\, 77590\, United States
END:VEVENT
BEGIN:VEVENT
DTSTART;VALUE=DATE:20250925
DTEND;VALUE=DATE:20250927
DTSTAMP:20260420T035743
CREATED:20250520T084948Z
LAST-MODIFIED:20250817T141119Z
UID:10000043-1758758400-1758931199@txfact.com
SUMMARY:Death Scene Investigation
DESCRIPTION:DSP Garland 09-2025 \nSeptember 25 – 26\, 2025   1891 Forest Lane\, Garland\, TX \nTuition $395 Early / $495 @ Door \n  \n**Early Registration Deadline September 10\, 2025 \n***No Refunds for Early Rate Registrations. Substitutions Accepted
URL:https://txfact.com/event/death-scene-investigation-2/
LOCATION:Garland Police Department\, 1891 Forest Lane\, Garland\, TX
ORGANIZER;CN="Nick":MAILTO:register@txfact.com
END:VEVENT
BEGIN:VEVENT
DTSTART;TZID=America/New_York:20250922T080000
DTEND;TZID=America/New_York:20250926T170000
DTSTAMP:20260420T035743
CREATED:20250710T060400Z
LAST-MODIFIED:20250710T114617Z
UID:10000047-1758528000-1758906000@txfact.com
SUMMARY:Latent Fingerprint Comparison: Intermediate Level
DESCRIPTION:Click for Hotel/Visitor Information_Southlake 2024 \nSeptember 22 – 26\, 2025 \nLOCATION: 100 E. Dove Rd.\, Southlake\, TX \nFee: $695 Early / $795@Door\n**** Early Registration Deadline September 10th\, 2025 ****\nNo Refund on Early Registration. (substitutions are allowed)
URL:https://txfact.com/event/latent-fingerprint-comparison-intermediate-level/
LOCATION:100 E. Dove Rd.\, Southlake\, TX\, 100 E. Dove Rd.\,\, Southlake\,\, TX\, 76092\, United States
END:VEVENT
BEGIN:VEVENT
DTSTART;VALUE=DATE:20250922
DTEND;VALUE=DATE:20250927
DTSTAMP:20260420T035743
CREATED:20250415T205416Z
LAST-MODIFIED:20250817T141304Z
UID:10000035-1758499200-1758931199@txfact.com
SUMMARY:Bloodstain Pattern Analysis Texas City: 40 Hours - September 2025
DESCRIPTION:BSPA_Texas City_09-2025_W_Venue W-9 2025 NEW \nSeptember 22 – 26\, 2025 Texas City\, TX \nTuition $695 Early / $795 @ Door \n  \n**Early Registration Deadline August 10\, 2025 \n***No Refunds for Early Rate Registrations. Substitutions Accepted
URL:https://txfact.com/event/bspa-texas-city-september-2025/
LOCATION:Texas City Police Department\, 1004 Ninth Ave North\, Texas City\, TX\, 77590\, United States
ORGANIZER;CN="Nick":MAILTO:register@txfact.com
END:VEVENT
BEGIN:VEVENT
DTSTART;VALUE=DATE:20250922
DTEND;VALUE=DATE:20250925
DTSTAMP:20260420T035743
CREATED:20250520T090258Z
LAST-MODIFIED:20250817T140944Z
UID:10000044-1758499200-1758758399@txfact.com
SUMMARY:Crime Scene Reconstruction
DESCRIPTION:CSR Garland 09-2025 \nSeptember 22 – 24\, 2025    1891 Forest Lane\, Garland\, TX \nTuition $495 Early / $595 @ Door \n  \n**Early Registration Deadline September 10\, 2025 \n***No Refunds for Early Rate Registrations. Substitutions Accepted
URL:https://txfact.com/event/crime-scene-reconstruction/
LOCATION:1891 Forest Lane\, Garland\, TX\, 1891\, Garland\, 75042\, United States
ORGANIZER;CN="Nick":MAILTO:register@txfact.com
END:VEVENT
BEGIN:VEVENT
DTSTART;VALUE=DATE:20250825
DTEND;VALUE=DATE:20250830
DTSTAMP:20260420T035743
CREATED:20250415T202345Z
LAST-MODIFIED:20250817T141349Z
UID:10000029-1756080000-1756511999@txfact.com
SUMMARY:Basic Criminal Investigation
DESCRIPTION:BCI_Texas CIty_08-2025-S \nAugust 25 – 29\, 2025 Texas City\, Tx \nTuition $695 Early / $795 @ Door \n  \n**Early Deadline EXTENDED \n***No Refunds for Early Rate Registrations. Substitutions Accepted
URL:https://txfact.com/event/bci-texas-city-august-2025/
LOCATION:Texas City Police Department\, 1004 Ninth Ave North\, Texas City\, TX\, 77590\, United States
END:VEVENT
BEGIN:VEVENT
DTSTART;VALUE=DATE:20250804
DTEND;VALUE=DATE:20250809
DTSTAMP:20260420T035743
CREATED:20250415T210133Z
LAST-MODIFIED:20250604T160012Z
UID:10000036-1754265600-1754697599@txfact.com
SUMMARY:Latent Fingerprint Comparison Advanced
DESCRIPTION:LFC_Advanced_Texas City_08-2025-S \nAugust 4 – 8\, 2025 Texas City\, TX \nTuition $695 Early / $795 @ Door \n**Early Registration Deadline July 20\, 2025
URL:https://txfact.com/event/lfc-advanced-texas-city-august-2025/
LOCATION:Texas City Police Department\, 1004 Ninth Ave North\, Texas City\, TX\, 77590\, United States
END:VEVENT
BEGIN:VEVENT
DTSTART;VALUE=DATE:20250707
DTEND;VALUE=DATE:20250712
DTSTAMP:20260420T035743
CREATED:20250415T200420Z
LAST-MODIFIED:20250604T160145Z
UID:10000025-1751846400-1752278399@txfact.com
SUMMARY:Basic Fingerprint Identification
DESCRIPTION:BFI_Southlake_07-2025-S \nJuly 7 – 11\, 2025 Southlake\, TX \nTuition $695 Early / $795 @ Door \n  \n**Early Registration Deadline June 25\, 2025
URL:https://txfact.com/event/bfi-southlake-july-2025/
LOCATION:Southlake Police Department\, 100 E. Dove Road\, Southlake\, TX\, 76092\, United States
END:VEVENT
BEGIN:VEVENT
DTSTART;VALUE=DATE:20250630
DTEND;VALUE=DATE:20250703
DTSTAMP:20260420T035743
CREATED:20250415T203751Z
LAST-MODIFIED:20250515T120556Z
UID:10000032-1751241600-1751500799@txfact.com
SUMMARY:Ultraviolet/Infrared Forensic Photography\, Texas City: 24 Hours - June 2025
DESCRIPTION:June 30 – July 2\, 2025 Texas City\, TX \nTuition $495 Early / $595 @ Door \n**Early Registration Deadline June 15\, 2025
URL:https://txfact.com/event/uv-ir-forensic-photo-texas-city-june-2025/
LOCATION:Texas City Police Department\, 1004 Ninth Ave North\, Texas City\, TX\, 77590\, United States
END:VEVENT
BEGIN:VEVENT
DTSTART;VALUE=DATE:20250428
DTEND;VALUE=DATE:20250503
DTSTAMP:20260420T035743
CREATED:20250415T202902Z
LAST-MODIFIED:20250425T143454Z
UID:10000030-1745798400-1746230399@txfact.com
SUMMARY:Latent Fingerprint Comparison Intermediate: Texas City - April 2025
DESCRIPTION:April 28 – May 2\, 2025 Texas City\, Tx \nTuition $695 Early / $795 @ Door \n  \n**Early Registration Deadline April 10\, 2025
URL:https://txfact.com/event/lfc-intermediate-texas-city-march-2025/
LOCATION:Texas City Police Department\, 1004 Ninth Ave North\, Texas City\, TX\, 77590\, United States
END:VEVENT
BEGIN:VEVENT
DTSTART;VALUE=DATE:20250421
DTEND;VALUE=DATE:20250426
DTSTAMP:20260420T035743
CREATED:20250415T201904Z
LAST-MODIFIED:20250425T021941Z
UID:10000028-1745193600-1745625599@txfact.com
SUMMARY:PPI Garland - April 2025
DESCRIPTION:April 21 – 23\, 2025 Garland\, TX \nTuition $495 Early / $595 @ Door
URL:https://txfact.com/event/ppi-garland-april-2025/
LOCATION:Garland Police Department\, 1891 Forest Lane\, Garland\, TX
END:VEVENT
END:VCALENDAR