BEGIN:VCALENDAR
VERSION:2.0
PRODID:-//TxFACT LLC, dba: Texas Forensic Associates - ECPv6.15.20//NONSGML v1.0//EN
CALSCALE:GREGORIAN
METHOD:PUBLISH
X-WR-CALNAME:TxFACT LLC, dba: Texas Forensic Associates
X-ORIGINAL-URL:https://txfact.com
X-WR-CALDESC:Events for TxFACT LLC, dba: Texas Forensic Associates
REFRESH-INTERVAL;VALUE=DURATION:PT1H
X-Robots-Tag:noindex
X-PUBLISHED-TTL:PT1H
BEGIN:VTIMEZONE
TZID:America/New_York
BEGIN:DAYLIGHT
TZOFFSETFROM:-0500
TZOFFSETTO:-0400
TZNAME:EDT
DTSTART:20250309T070000
END:DAYLIGHT
BEGIN:STANDARD
TZOFFSETFROM:-0400
TZOFFSETTO:-0500
TZNAME:EST
DTSTART:20251102T060000
END:STANDARD
BEGIN:DAYLIGHT
TZOFFSETFROM:-0500
TZOFFSETTO:-0400
TZNAME:EDT
DTSTART:20260308T070000
END:DAYLIGHT
BEGIN:STANDARD
TZOFFSETFROM:-0400
TZOFFSETTO:-0500
TZNAME:EST
DTSTART:20261101T060000
END:STANDARD
BEGIN:DAYLIGHT
TZOFFSETFROM:-0500
TZOFFSETTO:-0400
TZNAME:EDT
DTSTART:20270314T070000
END:DAYLIGHT
BEGIN:STANDARD
TZOFFSETFROM:-0400
TZOFFSETTO:-0500
TZNAME:EST
DTSTART:20271107T060000
END:STANDARD
END:VTIMEZONE
BEGIN:VEVENT
DTSTART;TZID=America/New_York:20260713T080000
DTEND;TZID=America/New_York:20260715T170000
DTSTAMP:20260420T034221
CREATED:20260324T150613Z
LAST-MODIFIED:20260324T154456Z
UID:10000065-1783929600-1784134800@txfact.com
SUMMARY:BLOOD\, BULLETS & MORE: INVESTIGATING VIOLENT CRIME SCENES
DESCRIPTION:Host: Garland Police Department\nDate: July 13 – 15\, 2026\nTime: 8A – 5P (24 hours) \nLocation: 1891 Forest Lane Garland\, TX \nFee: $495\n*** $595 after January 1st\, 2026 ****\nNo Refund on Early Registration. (substitutions are allowed) \nVisitor Information_Garland_PD_2026
URL:https://txfact.com/event/blood-bullets-more-investigating-violent-crime-scenes-2/
LOCATION:Garland Police Department\, 1891 Forest Lane\, Garland\, TX
END:VEVENT
END:VCALENDAR