BEGIN:VCALENDAR
VERSION:2.0
PRODID:-//TxFACT LLC, dba: Texas Forensic Associates - ECPv6.15.20//NONSGML v1.0//EN
CALSCALE:GREGORIAN
METHOD:PUBLISH
X-WR-CALNAME:TxFACT LLC, dba: Texas Forensic Associates
X-ORIGINAL-URL:https://txfact.com
X-WR-CALDESC:Events for TxFACT LLC, dba: Texas Forensic Associates
REFRESH-INTERVAL;VALUE=DURATION:PT1H
X-Robots-Tag:noindex
X-PUBLISHED-TTL:PT1H
BEGIN:VTIMEZONE
TZID:America/New_York
BEGIN:DAYLIGHT
TZOFFSETFROM:-0500
TZOFFSETTO:-0400
TZNAME:EDT
DTSTART:20250309T070000
END:DAYLIGHT
BEGIN:STANDARD
TZOFFSETFROM:-0400
TZOFFSETTO:-0500
TZNAME:EST
DTSTART:20251102T060000
END:STANDARD
BEGIN:DAYLIGHT
TZOFFSETFROM:-0500
TZOFFSETTO:-0400
TZNAME:EDT
DTSTART:20260308T070000
END:DAYLIGHT
BEGIN:STANDARD
TZOFFSETFROM:-0400
TZOFFSETTO:-0500
TZNAME:EST
DTSTART:20261101T060000
END:STANDARD
BEGIN:DAYLIGHT
TZOFFSETFROM:-0500
TZOFFSETTO:-0400
TZNAME:EDT
DTSTART:20270314T070000
END:DAYLIGHT
BEGIN:STANDARD
TZOFFSETFROM:-0400
TZOFFSETTO:-0500
TZNAME:EST
DTSTART:20271107T060000
END:STANDARD
END:VTIMEZONE
BEGIN:VEVENT
DTSTART;TZID=America/New_York:20260427T080000
DTEND;TZID=America/New_York:20260501T170000
DTSTAMP:20260419T233819
CREATED:20250925T212312Z
LAST-MODIFIED:20260127T155636Z
UID:10000060-1777276800-1777654800@txfact.com
SUMMARY:BLOODSTAIN PATTERN ANALYSIS: BASIC LEVEL
DESCRIPTION:Host: Texas City Police Department\nDate: April 27 to May 1\, 2026\nTime: 8A – 5P (40 hours) \nLocation: 1004 9th Ave North\, Texas City\, Texas \nFee: $695\n*** $795 after April 12th\, 2026 ****\nNo Refund on Early Registration. (substitutions are allowed) \nVisitor Information_Texas City_PD_2024
URL:https://txfact.com/event/bloodstain-pattern-analysis-basic-level/
LOCATION:1004 9th Ave North\, Texas City\, Texas
END:VEVENT
END:VCALENDAR