BEGIN:VCALENDAR
VERSION:2.0
PRODID:-//TxFACT LLC, dba: Texas Forensic Associates - ECPv6.15.20//NONSGML v1.0//EN
CALSCALE:GREGORIAN
METHOD:PUBLISH
X-ORIGINAL-URL:https://txfact.com
X-WR-CALDESC:Events for TxFACT LLC, dba: Texas Forensic Associates
REFRESH-INTERVAL;VALUE=DURATION:PT1H
X-Robots-Tag:noindex
X-PUBLISHED-TTL:PT1H
BEGIN:VTIMEZONE
TZID:America/New_York
BEGIN:DAYLIGHT
TZOFFSETFROM:-0500
TZOFFSETTO:-0400
TZNAME:EDT
DTSTART:20250309T070000
END:DAYLIGHT
BEGIN:STANDARD
TZOFFSETFROM:-0400
TZOFFSETTO:-0500
TZNAME:EST
DTSTART:20251102T060000
END:STANDARD
BEGIN:DAYLIGHT
TZOFFSETFROM:-0500
TZOFFSETTO:-0400
TZNAME:EDT
DTSTART:20260308T070000
END:DAYLIGHT
BEGIN:STANDARD
TZOFFSETFROM:-0400
TZOFFSETTO:-0500
TZNAME:EST
DTSTART:20261101T060000
END:STANDARD
BEGIN:DAYLIGHT
TZOFFSETFROM:-0500
TZOFFSETTO:-0400
TZNAME:EDT
DTSTART:20270314T070000
END:DAYLIGHT
BEGIN:STANDARD
TZOFFSETFROM:-0400
TZOFFSETTO:-0500
TZNAME:EST
DTSTART:20271107T060000
END:STANDARD
END:VTIMEZONE
BEGIN:VEVENT
DTSTART;TZID=America/New_York:20260120T080000
DTEND;TZID=America/New_York:20260122T170000
DTSTAMP:20260420T041107
CREATED:20250925T192737Z
LAST-MODIFIED:20260109T160230Z
UID:10000053-1768896000-1769101200@txfact.com
SUMMARY:BLOOD\, BULLETS & MORE: INVESTIGATING VIOLENT CRIME SCENES
DESCRIPTION:Host: Texas City Police Department\nDate: January 20 – 22\, 2026\nTime: 8A – 5P (24 hours) \nLocation: 1004 9th Ave North\, Texas City\, Texas \nFee: $495\n*** $595 after January 1st\, 2026 ****\nNo Refund on Early Registration. (substitutions are allowed) \nVisitor Information_Texas City_PD_2024
URL:https://txfact.com/event/blood-bullets-more-investigating-violent-crime-scenes/
LOCATION:1004 9th Ave North\, Texas City\, Texas
END:VEVENT
END:VCALENDAR